BEGIN:VCALENDAR
METHOD:PUBLISH
X-WR-TIMEZONE:America/Denver
PRODID:-//Hold My Ticket.//HMT Web App//EN
CALSCALE:GREGORIAN
METHOD:PUBLISH
X-WR-CALNAME:The Oriental Theater
X-WR-CALDESC:Upcoming events at The Oriental Theater
BEGIN:VTIMEZONE
TZID:America/Denver 
END:VTIMEZONE
BEGIN:VEVENT
SEQUENCE:2
TRANSP:OPAQUE
UID:1a1b8d7e5ad98cbeffd56637260186f6
DTSTART:20251231T190000
DTSTAMP:20251227T203918Z
SUMMARY:The 80s VS 90s New Year's Eve Spectacular! 
DESCRIPTION:
CREATED:20251227T203918Z
URL;VALUE=URI:http://holdmyticket.com/event/453231 

DTEND:20260101T000000
END:VEVENT
END:VCALENDAR