BEGIN:VCALENDAR
METHOD:PUBLISH
X-WR-TIMEZONE:America/Denver
PRODID:-//Hold My Ticket.//HMT Web App//EN
CALSCALE:GREGORIAN
METHOD:PUBLISH
X-WR-CALNAME:Sunshine Theater
X-WR-CALDESC:Upcoming events at Sunshine Theater
BEGIN:VTIMEZONE
TZID:America/Denver 
END:VTIMEZONE
BEGIN:VEVENT
SEQUENCE:2
TRANSP:OPAQUE
UID:ac0bff7bab9570b6eb8240c31aa83e69
DTSTART:20260404T200000
DTSTAMP:20260404T222059Z
SUMMARY:The Menzingers * I Am The Avalanche 
DESCRIPTION:* The Menzingers * I Am The Avalanche *

Saturday, April 4, 2026
Doors 7pm | Show 8pm
Sunshine Theater
ABQ NM
all ages

Advance tickets - $30 + service charge
Ticket prices may increase day of show
https://www.facebook.com/events/edit/769862646059165

NOW ON SALE!! 
CREATED:20260404T222059Z
URL;VALUE=URI:http://holdmyticket.com/event/453309 

DTEND:20260404T230000
END:VEVENT
END:VCALENDAR