BEGIN:VCALENDAR
METHOD:PUBLISH
X-WR-TIMEZONE:America/Chicago
PRODID:-//Hold My Ticket.//HMT Web App//EN
CALSCALE:GREGORIAN
METHOD:PUBLISH
X-WR-CALNAME:Luckenbach Texas
X-WR-CALDESC:Upcoming events at Luckenbach Texas
BEGIN:VTIMEZONE
TZID:America/Chicago 
END:VTIMEZONE
BEGIN:VEVENT
SEQUENCE:2
TRANSP:OPAQUE
UID:8477a47da957945b6bf52f25d14dc729
DTSTART:20260518T130000
DTSTAMP:20260121T120858Z
SUMMARY:John Bardy
DESCRIPTION:
CREATED:20260121T120858Z
URL;VALUE=URI:http://holdmyticket.com/event/453392 

DTEND:20260518T170000
END:VEVENT
END:VCALENDAR