BEGIN:VCALENDAR
METHOD:PUBLISH
X-WR-TIMEZONE:America/Chicago
PRODID:-//Hold My Ticket.//HMT Web App//EN
CALSCALE:GREGORIAN
METHOD:PUBLISH
X-WR-CALNAME:Luckenbach Texas
X-WR-CALDESC:Upcoming events at Luckenbach Texas
BEGIN:VTIMEZONE
TZID:America/Chicago 
END:VTIMEZONE
BEGIN:VEVENT
SEQUENCE:2
TRANSP:OPAQUE
UID:e9562907791640342403e9e5a465e0bf
DTSTART:20260428T170000
DTSTAMP:20260326T074819Z
SUMMARY:T-Roy and Candace Miller
DESCRIPTION:
CREATED:20260326T074819Z
URL;VALUE=URI:http://holdmyticket.com/event/453419 

DTEND:20260428T210000
END:VEVENT
END:VCALENDAR