BEGIN:VCALENDAR
METHOD:PUBLISH
X-WR-TIMEZONE:America/New_York
PRODID:-//Hold My Ticket.//HMT Web App//EN
CALSCALE:GREGORIAN
METHOD:PUBLISH
X-WR-CALNAME:Alumni Hall
X-WR-CALDESC:Upcoming events at Alumni Hall
BEGIN:VTIMEZONE
TZID:America/New_York 
END:VTIMEZONE
BEGIN:VEVENT
SEQUENCE:2
TRANSP:OPAQUE
UID:99dee89c2b924cbd1360037e89afae49
DTSTART:20251213T200000
DTSTAMP:20251016T104734Z
SUMMARY:EVERYBODY KNOWS - A TRIBUTE TO NEIL YOUNG
DESCRIPTION:Jeff Beam & Friends present Everybody Knows, a 7-piece Maine-based tribute to
Neil Young! Everybody Knows performs precise renditions of songs across Neil's discography,
primarily focusing on the 1960s and 1970s. You'll hear songs from Buffalo Springfield, Crosby
Stills Nash & Young, solo Neil, as well as his songs with Crazy Horse, the Stray Gators, and the
Santa Monica Flyers!

The band features Jeff Beam (vocals, guitars), Kyle Gervais (bass, vocals), Mike Chasse (drums),
Scott Nebel (guitars), Nick Place (piano, vocals), Hamilton Belk (pedal steel), and Nancy Bessey
(harmonica). Join us on a journey through the past as Everybody Knows brings new life to the
songs of Neil Young!



jeffbeammusic.com/everybody-knows
instagram.com/jeff_beam
facebook.com/jeffbeammusic
youtube.com/watch?v=PZdPQ5o_Qds
youtube.com/watch?v=AaEiBG_z7mc
youtube.com/watch?v=q04wcQZn_KA
youtube.com/watch?v=4m5_-eMuQzE
CREATED:20251016T104734Z
URL;VALUE=URI:http://holdmyticket.com/event/453617 

DTEND:20251213T220000
END:VEVENT
END:VCALENDAR