BEGIN:VCALENDAR
METHOD:PUBLISH
X-WR-TIMEZONE:America/Denver
PRODID:-//Hold My Ticket.//HMT Web App//EN
CALSCALE:GREGORIAN
METHOD:PUBLISH
X-WR-CALNAME:The Federal Theatre
X-WR-CALDESC:Upcoming events at The Federal Theatre
BEGIN:VTIMEZONE
TZID:America/Denver 
END:VTIMEZONE
BEGIN:VEVENT
SEQUENCE:2
TRANSP:OPAQUE
UID:75d9b65a2c3d3a7a0de8c9e8ec8f965b
DTSTART:20251106T190000
DTSTAMP:20251027T165820Z
SUMMARY:Soulfly
DESCRIPTION:
CREATED:20251027T165820Z
URL;VALUE=URI:http://holdmyticket.com/event/453627 

DTEND:20251106T230000
END:VEVENT
END:VCALENDAR