BEGIN:VCALENDAR
METHOD:PUBLISH
X-WR-TIMEZONE:America/Denver
PRODID:-//Hold My Ticket.//HMT Web App//EN
CALSCALE:GREGORIAN
METHOD:PUBLISH
X-WR-CALNAME:KiMo Theatre
X-WR-CALDESC:Upcoming events at KiMo Theatre
BEGIN:VTIMEZONE
TZID:America/Denver 
END:VTIMEZONE
BEGIN:VEVENT
SEQUENCE:2
TRANSP:OPAQUE
UID:cc3e52a7ea36cfecd7bb978a17f63722
DTSTART:20260123T193000
DTSTAMP:20260121T120858Z
SUMMARY:Tank and the Bangas
DESCRIPTION:
CREATED:20260121T120858Z
URL;VALUE=URI:http://holdmyticket.com/event/453677 

DTEND:20260123T220000
END:VEVENT
END:VCALENDAR