BEGIN:VCALENDAR
METHOD:PUBLISH
X-WR-TIMEZONE:America/Chicago
PRODID:-//Hold My Ticket.//HMT Web App//EN
CALSCALE:GREGORIAN
METHOD:PUBLISH
X-WR-CALNAME:Luckenbach Texas
X-WR-CALDESC:Upcoming events at Luckenbach Texas
BEGIN:VTIMEZONE
TZID:America/Chicago 
END:VTIMEZONE
BEGIN:VEVENT
SEQUENCE:2
TRANSP:OPAQUE
UID:3d7b61be48653b047eb0d9b02738aa8e
DTSTART:20260503T130000
DTSTAMP:20260213T163509Z
SUMMARY:Walt Wilkins, Tina Wilkins, Bill Small, Tip Jar (from The Netherlands), Ron Flynt, & others.
DESCRIPTION:
CREATED:20260213T163509Z
URL;VALUE=URI:http://holdmyticket.com/event/453821 

DTEND:20260503T170000
END:VEVENT
END:VCALENDAR