BEGIN:VCALENDAR
METHOD:PUBLISH
X-WR-TIMEZONE:America/Los_Angeles
PRODID:-//Hold My Ticket.//HMT Web App//EN
CALSCALE:GREGORIAN
METHOD:PUBLISH
X-WR-CALNAME:Winstons
X-WR-CALDESC:Upcoming events at Winstons
BEGIN:VTIMEZONE
TZID:America/Los_Angeles 
END:VTIMEZONE
BEGIN:VEVENT
SEQUENCE:2
TRANSP:OPAQUE
UID:5997b8e275ea10dd3b94b15beeed86c9
DTSTART:20251101T210000
DTSTAMP:20251016T151533Z
SUMMARY:Kush w. King Martyr 
DESCRIPTION:
CREATED:20251016T151533Z
URL;VALUE=URI:http://holdmyticket.com/event/453867 

DTEND:20251102T000000
END:VEVENT
END:VCALENDAR