BEGIN:VCALENDAR
METHOD:PUBLISH
X-WR-TIMEZONE:America/Los_Angeles
PRODID:-//Hold My Ticket.//HMT Web App//EN
CALSCALE:GREGORIAN
METHOD:PUBLISH
X-WR-CALNAME:Winstons
X-WR-CALDESC:Upcoming events at Winstons
BEGIN:VTIMEZONE
TZID:America/Los_Angeles 
END:VTIMEZONE
BEGIN:VEVENT
SEQUENCE:2
TRANSP:OPAQUE
UID:ccac084b1130135572b305e27ba83828
DTSTART:20251104T210000
DTSTAMP:20251104T200009Z
SUMMARY:Tim Snider with Kristina Bennett
DESCRIPTION:
CREATED:20251104T200009Z
URL;VALUE=URI:http://holdmyticket.com/event/453868 

DTEND:20251105T000000
END:VEVENT
END:VCALENDAR