BEGIN:VCALENDAR
METHOD:PUBLISH
X-WR-TIMEZONE:America/Chicago
PRODID:-//Hold My Ticket.//HMT Web App//EN
CALSCALE:GREGORIAN
METHOD:PUBLISH
X-WR-CALNAME:Luckenbach Texas
X-WR-CALDESC:Upcoming events at Luckenbach Texas
BEGIN:VTIMEZONE
TZID:America/Chicago 
END:VTIMEZONE
BEGIN:VEVENT
SEQUENCE:2
TRANSP:OPAQUE
UID:c6d0437a0b419569457078b5c62a91b0
DTSTART:20260418T120000
DTSTAMP:20260418T094804Z
SUMMARY:5th Annual Bluegrass Festival 
DESCRIPTION:
CREATED:20260418T094804Z
URL;VALUE=URI:http://holdmyticket.com/event/454049 

DTEND:20260418T183000
END:VEVENT
END:VCALENDAR