BEGIN:VCALENDAR
METHOD:PUBLISH
X-WR-TIMEZONE:America/Denver
PRODID:-//Hold My Ticket.//HMT Web App//EN
CALSCALE:GREGORIAN
METHOD:PUBLISH
X-WR-CALNAME:Sunshine Theater
X-WR-CALDESC:Upcoming events at Sunshine Theater
BEGIN:VTIMEZONE
TZID:America/Denver 
END:VTIMEZONE
BEGIN:VEVENT
SEQUENCE:2
TRANSP:OPAQUE
UID:de6c3b67f52520b79f775db8c8ef1e55
DTSTART:20260425T200000
DTSTAMP:20260413T090243Z
SUMMARY:The Crane Wives * Lilith Max
DESCRIPTION:* The Crane Wives * Lilith Max * 
Act I Tour 

Saturday, April 25, 2026
Doors 7pm | Show 8pm
Sunshine Theater 
ABQ NM 
all ages 

Advance tickets - $28 + service charge
Ticket prices may increase day of show
https://www.facebook.com/events/1301564058399099

NOW ON SALE! 
CREATED:20260413T090243Z
URL;VALUE=URI:http://holdmyticket.com/event/454208 

DTEND:20260425T230000
END:VEVENT
END:VCALENDAR