BEGIN:VCALENDAR
METHOD:PUBLISH
X-WR-TIMEZONE:America/Denver
PRODID:-//Hold My Ticket.//HMT Web App//EN
CALSCALE:GREGORIAN
METHOD:PUBLISH
X-WR-CALNAME:The Dirty Bourbon, Dance Hall & Saloon
X-WR-CALDESC:Upcoming events at The Dirty Bourbon, Dance Hall & Saloon
BEGIN:VTIMEZONE
TZID:America/Denver 
END:VTIMEZONE
BEGIN:VEVENT
SEQUENCE:2
TRANSP:OPAQUE
UID:b0a0a426ab66400743cb7a828afb4560
DTSTART:20260605T190000
DTSTAMP:20260407T195538Z
SUMMARY:Double Wide 
DESCRIPTION:
CREATED:20260407T195538Z
URL;VALUE=URI:http://holdmyticket.com/event/454299 

DTEND:20260606T020000
END:VEVENT
END:VCALENDAR