BEGIN:VCALENDAR
METHOD:PUBLISH
X-WR-TIMEZONE:America/Denver
PRODID:-//Hold My Ticket.//HMT Web App//EN
CALSCALE:GREGORIAN
METHOD:PUBLISH
X-WR-CALNAME:Launchpad
X-WR-CALDESC:Upcoming events at Launchpad
BEGIN:VTIMEZONE
TZID:America/Denver 
END:VTIMEZONE
BEGIN:VEVENT
SEQUENCE:2
TRANSP:OPAQUE
UID:22186bccc6001cf0daad19f106ef6d54
DTSTART:20260404T200000
DTSTAMP:20260404T224817Z
SUMMARY:The Casualties * Bullshit Detector * Dissatisfied 
DESCRIPTION:* The Casualties * Bullshit Detector * Dissatisfied *
Detonate Tour 

Saturday, April 4, 2026
Doors 7pm | Show 8pm
Launchpad 
ABQ NM 
all ages 

Advance tickets - $20 + service charge
Ticket prices may increase day of show
https://www.facebook.com/events/843951381978578
CREATED:20260404T224817Z
URL;VALUE=URI:http://holdmyticket.com/event/454330 

DTEND:20260404T230000
END:VEVENT
END:VCALENDAR