BEGIN:VCALENDAR
METHOD:PUBLISH
X-WR-TIMEZONE:America/Denver
PRODID:-//Hold My Ticket.//HMT Web App//EN
CALSCALE:GREGORIAN
METHOD:PUBLISH
X-WR-CALNAME:Launchpad
X-WR-CALDESC:Upcoming events at Launchpad
BEGIN:VTIMEZONE
TZID:America/Denver 
END:VTIMEZONE
BEGIN:VEVENT
SEQUENCE:2
TRANSP:OPAQUE
UID:8d1edcfb826ac0534caa89af2e5e50dc
DTSTART:20260402T193000
DTSTAMP:20260402T224946Z
SUMMARY:The Summer Set * Senses * Lindsay Ell * Good Boy Daisy 
DESCRIPTION:* The Summer Set * Senses * Lindsay Ell * Good Boy Daisy *
Meet Me At The Record Tour 

Thursday, April 2, 2025
Doors 630pm | Show 730pm
Venue 
ABQ NM 
all ages 

Advance tickets - $28 + service charge
Ticket prices may increase day of show
https://www.facebook.com/events/1482227726393288
CREATED:20260402T224946Z
URL;VALUE=URI:http://holdmyticket.com/event/454549 

DTEND:20260402T230000
END:VEVENT
END:VCALENDAR