BEGIN:VCALENDAR
METHOD:PUBLISH
X-WR-TIMEZONE:America/Denver
PRODID:-//Hold My Ticket.//HMT Web App//EN
CALSCALE:GREGORIAN
METHOD:PUBLISH
X-WR-CALNAME:El Rey
X-WR-CALDESC:Upcoming events at El Rey
BEGIN:VTIMEZONE
TZID:America/Denver 
END:VTIMEZONE
BEGIN:VEVENT
SEQUENCE:2
TRANSP:OPAQUE
UID:a6c2d594271b40c97add73c0e518b56d
DTSTART:20260513T200000
DTSTAMP:20260331T150345Z
SUMMARY:Unknown Mortal Orchestra
DESCRIPTION:* Unknown Mortal Orchestra * Sean Solomon * 

Wednesday, May 13, 2026
Doors 7pm | Show 8pm
El Rey Theater
ABQ NM 
all ages 

Advance tickets - $28 + service charge
Ticket prices may increase day of show
https://www.facebook.com/events/1921337049264010

NOW ON SALE!! 

CREATED:20260331T150345Z
URL;VALUE=URI:http://holdmyticket.com/event/454696 

DTEND:20260513T230000
END:VEVENT
END:VCALENDAR