BEGIN:VCALENDAR
METHOD:PUBLISH
X-WR-TIMEZONE:America/Denver
PRODID:-//Hold My Ticket.//HMT Web App//EN
CALSCALE:GREGORIAN
METHOD:PUBLISH
X-WR-CALNAME:Buffalo Rose
X-WR-CALDESC:Upcoming events at Buffalo Rose
BEGIN:VTIMEZONE
TZID:America/Denver 
END:VTIMEZONE
BEGIN:VEVENT
SEQUENCE:2
TRANSP:OPAQUE
UID:c1ee14ff632df2bac59fba33a803b5de
DTSTART:20261213T160000
DTSTAMP:20260414T065536Z
SUMMARY:Sunday Swing
DESCRIPTION:A LIVE BIG BAND performance with The Flatirons Jazz Orchestra featuring Deborah Stafford with dinner and dancing! Seating is limited and General Admission. Doors open for a free swing dance lesson 4:00-5:00pm and the live concert starts at 5:00pm.
CREATED:20260414T065536Z
URL;VALUE=URI:http://holdmyticket.com/event/454734 

DTEND:20261213T190000
END:VEVENT
END:VCALENDAR