BEGIN:VCALENDAR
METHOD:PUBLISH
X-WR-TIMEZONE:America/Denver
PRODID:-//Hold My Ticket.//HMT Web App//EN
CALSCALE:GREGORIAN
METHOD:PUBLISH
X-WR-CALNAME:Launchpad
X-WR-CALDESC:Upcoming events at Launchpad
BEGIN:VTIMEZONE
TZID:America/Denver 
END:VTIMEZONE
BEGIN:VEVENT
SEQUENCE:2
TRANSP:OPAQUE
UID:f8f4673c36f01b9c7771618005e03c4e
DTSTART:20260401T200000
DTSTAMP:20260401T221821Z
SUMMARY:Subhumans * The Venomous Pinks * Fit To Burn
DESCRIPTION:* Subhumans * The Venomous Pinks * Fit To Burn *

Wednesday, April 1, 2026
Doors 7pm | Show 8pm
Launchpad
ABQ NM 
all ages 

Advance tickets - $22 + service charge
Ticket prices may increase day of show
https://www.facebook.com/events/847610797891464

NOW ON SALE!! 
CREATED:20260401T221821Z
URL;VALUE=URI:http://holdmyticket.com/event/454769 

DTEND:20260401T230000
END:VEVENT
END:VCALENDAR