BEGIN:VCALENDAR
METHOD:PUBLISH
X-WR-TIMEZONE:America/Los_Angeles
PRODID:-//Hold My Ticket.//HMT Web App//EN
CALSCALE:GREGORIAN
METHOD:PUBLISH
X-WR-CALNAME:Winstons
X-WR-CALDESC:Upcoming events at Winstons
BEGIN:VTIMEZONE
TZID:America/Los_Angeles 
END:VTIMEZONE
BEGIN:VEVENT
SEQUENCE:2
TRANSP:OPAQUE
UID:37244fc60fcda3a83d2570ce232ce2fb
DTSTART:20251122T213000
DTSTAMP:20251122T221128Z
SUMMARY:Kyle Merrill Band
DESCRIPTION:
CREATED:20251122T221128Z
URL;VALUE=URI:http://holdmyticket.com/event/454770 

DTEND:20251123T003000
END:VEVENT
END:VCALENDAR