BEGIN:VCALENDAR
METHOD:PUBLISH
X-WR-TIMEZONE:America/Denver
PRODID:-//Hold My Ticket.//HMT Web App//EN
CALSCALE:GREGORIAN
METHOD:PUBLISH
X-WR-CALNAME:Buffalo Rose
X-WR-CALDESC:Upcoming events at Buffalo Rose
BEGIN:VTIMEZONE
TZID:America/Denver 
END:VTIMEZONE
BEGIN:VEVENT
SEQUENCE:2
TRANSP:OPAQUE
UID:ae09696453a0d9fe85b8ce201b0054d6
DTSTART:20260515T200000
DTSTAMP:20260217T234409Z
SUMMARY:6 Million Dollar Band
DESCRIPTION:
CREATED:20260217T234409Z
URL;VALUE=URI:http://holdmyticket.com/event/454888 

DTEND:20260515T223000
END:VEVENT
END:VCALENDAR