BEGIN:VCALENDAR
METHOD:PUBLISH
X-WR-TIMEZONE:America/Denver
PRODID:-//Hold My Ticket.//HMT Web App//EN
CALSCALE:GREGORIAN
METHOD:PUBLISH
X-WR-CALNAME:Launchpad
X-WR-CALDESC:Upcoming events at Launchpad
BEGIN:VTIMEZONE
TZID:America/Denver 
END:VTIMEZONE
BEGIN:VEVENT
SEQUENCE:2
TRANSP:OPAQUE
UID:f60a348d94a1ca66c9ea18624cc99d75
DTSTART:20260406T200000
DTSTAMP:20260406T231827Z
SUMMARY:Saintseneca * Gladie * Rose Signet 
DESCRIPTION:* Saintseneca * Gladie * Rose Signet *
CREATED:20260406T231827Z
URL;VALUE=URI:http://holdmyticket.com/event/454903 

DTEND:20260406T234500
END:VEVENT
END:VCALENDAR