BEGIN:VCALENDAR
METHOD:PUBLISH
X-WR-TIMEZONE:America/Denver
PRODID:-//Hold My Ticket.//HMT Web App//EN
CALSCALE:GREGORIAN
METHOD:PUBLISH
X-WR-CALNAME:Sunshine Theater
X-WR-CALDESC:Upcoming events at Sunshine Theater
BEGIN:VTIMEZONE
TZID:America/Denver 
END:VTIMEZONE
BEGIN:VEVENT
SEQUENCE:2
TRANSP:OPAQUE
UID:103289d811e6a1b622ac9fa193c62f46
DTSTART:20260408T200000
DTSTAMP:20260408T214638Z
SUMMARY:The Happy Fits * BEL
DESCRIPTION:* The Happy Fits * BEL *
Lovesick Tour 2026

Wednesday, April 8, 2026
Doors 7pm | Show 8pm
Sunshine Theater
ABQ NM
all ages

Advance tickets - $25 + service charge
Ticket prices may increase day of show
https://www.facebook.com/events/738335982061262

NOW ON SALE!! 
CREATED:20260408T214638Z
URL;VALUE=URI:http://holdmyticket.com/event/454904 

DTEND:20260408T230000
END:VEVENT
END:VCALENDAR