BEGIN:VCALENDAR
METHOD:PUBLISH
X-WR-TIMEZONE:America/Los_Angeles
PRODID:-//Hold My Ticket.//HMT Web App//EN
CALSCALE:GREGORIAN
METHOD:PUBLISH
X-WR-CALNAME:Winstons
X-WR-CALDESC:Upcoming events at Winstons
BEGIN:VTIMEZONE
TZID:America/Los_Angeles 
END:VTIMEZONE
BEGIN:VEVENT
SEQUENCE:2
TRANSP:OPAQUE
UID:c45f364c5f5a445c56fffd18c091f0a1
DTSTART:20260131T213000
DTSTAMP:20260121T120858Z
SUMMARY:Blü Egyptian with Shaky Feelin'
DESCRIPTION:
CREATED:20260121T120858Z
URL;VALUE=URI:http://holdmyticket.com/event/455235 

DTEND:20260201T000000
END:VEVENT
END:VCALENDAR