BEGIN:VCALENDAR
METHOD:PUBLISH
X-WR-TIMEZONE:America/Denver
PRODID:-//Hold My Ticket.//HMT Web App//EN
CALSCALE:GREGORIAN
METHOD:PUBLISH
X-WR-CALNAME:Buffalo Rose
X-WR-CALDESC:Upcoming events at Buffalo Rose
BEGIN:VTIMEZONE
TZID:America/Denver 
END:VTIMEZONE
BEGIN:VEVENT
SEQUENCE:2
TRANSP:OPAQUE
UID:960590a2c7fca2fdac6fb5347e4a9e07
DTSTART:20260510T160000
DTSTAMP:20260416T020441Z
SUMMARY:Sunday Swing
DESCRIPTION:A LIVE BIG BAND performance with The Flatirons Jazz Orchestra featuring Deborah Stafford with dinner and dancing! Seating is limited and General Admission. Doors open for a free swing dance lesson 4:00-5:00pm and the live concert starts at 5:00pm.
CREATED:20260416T020441Z
URL;VALUE=URI:http://holdmyticket.com/event/455266 

DTEND:20260510T193000
END:VEVENT
END:VCALENDAR