BEGIN:VCALENDAR
METHOD:PUBLISH
X-WR-TIMEZONE:America/Denver
PRODID:-//Hold My Ticket.//HMT Web App//EN
CALSCALE:GREGORIAN
METHOD:PUBLISH
X-WR-CALNAME:Buffalo Rose
X-WR-CALDESC:Upcoming events at Buffalo Rose
BEGIN:VTIMEZONE
TZID:America/Denver 
END:VTIMEZONE
BEGIN:VEVENT
SEQUENCE:2
TRANSP:OPAQUE
UID:93ffa3f1f09ef95a38a3bfc2f49a9b7f
DTSTART:20260705T170000
DTSTAMP:20260414T065322Z
SUMMARY:Sunday Swing
DESCRIPTION:A LIVE BIG BAND performance with The Flatirons Jazz Orchestra featuring Deborah Stafford with dinner and dancing! Seating is limited and General Admission. Doors open for a free swing dance lesson 4:00-5:00pm and the live concert starts at 5:00pm.
CREATED:20260414T065322Z
URL;VALUE=URI:http://holdmyticket.com/event/455268 

DTEND:20260705T193000
END:VEVENT
END:VCALENDAR