BEGIN:VCALENDAR
METHOD:PUBLISH
X-WR-TIMEZONE:America/Denver
PRODID:-//Hold My Ticket.//HMT Web App//EN
CALSCALE:GREGORIAN
METHOD:PUBLISH
X-WR-CALNAME:Buffalo Rose
X-WR-CALDESC:Upcoming events at Buffalo Rose
BEGIN:VTIMEZONE
TZID:America/Denver 
END:VTIMEZONE
BEGIN:VEVENT
SEQUENCE:2
TRANSP:OPAQUE
UID:0fab33b1a874f0af3fc36e390358c2ff
DTSTART:20261108T160000
DTSTAMP:20260414T065513Z
SUMMARY:Sunday Swing
DESCRIPTION:A LIVE BIG BAND performance with The Flatirons Jazz Orchestra featuring Deborah Stafford with dinner and dancing! Seating is limited and General Admission. Doors open for a free swing dance lesson 4:00-5:00pm and the live concert starts at 5:00pm.
CREATED:20260414T065513Z
URL;VALUE=URI:http://holdmyticket.com/event/455273 

DTEND:20261108T193000
END:VEVENT
END:VCALENDAR