BEGIN:VCALENDAR
METHOD:PUBLISH
X-WR-TIMEZONE:America/Denver
PRODID:-//Hold My Ticket.//HMT Web App//EN
CALSCALE:GREGORIAN
METHOD:PUBLISH
X-WR-CALNAME:Absinthe House
X-WR-CALDESC:Upcoming events at Absinthe House
BEGIN:VTIMEZONE
TZID:America/Denver 
END:VTIMEZONE
BEGIN:VEVENT
SEQUENCE:2
TRANSP:OPAQUE
UID:302ef59a9a62dae9404016c04f9a9b4d
DTSTART:20260111T190000
DTSTAMP:20251129T160422Z
SUMMARY:Luciano
DESCRIPTION:Rising Sun & Jamaican Dave Productions Presents Luciano on Sun Jan 11, 2026 with Tabernacle Reggae Band ft. Luv Smith and DJ Peter Blacks at Ardmore Music Hall. 

Seated Doors: 5:45 PM | GA Doors: 6:15 PM | Show: 7:00 PM. 21+ Unless with a Parent or Legal Guardian

Get Tix's:
https://www.tixr.com/groups/ardmoremusichall/events/luciano-163207?sort=RECOMMENDED&COL=10429&A=L
CREATED:20251129T160422Z
URL;VALUE=URI:http://holdmyticket.com/event/455452 

DTEND:20260111T234500
END:VEVENT
END:VCALENDAR