BEGIN:VCALENDAR
METHOD:PUBLISH
X-WR-TIMEZONE:America/Denver
PRODID:-//Hold My Ticket.//HMT Web App//EN
CALSCALE:GREGORIAN
METHOD:PUBLISH
X-WR-CALNAME:Absinthe House
X-WR-CALDESC:Upcoming events at Absinthe House
BEGIN:VTIMEZONE
TZID:America/Denver 
END:VTIMEZONE
BEGIN:VEVENT
SEQUENCE:2
TRANSP:OPAQUE
UID:fc02139180b3561e045f25ab0d503e53
DTSTART:20251213T120000
DTSTAMP:20251129T161434Z
SUMMARY:UNITED for RELIEF Reggae Benefit Concert
DESCRIPTION:UNITED for RELIEF Reggae Benefit Concert

Dec 13-14, 2025 at Sarasota Fairgrounds. Sarasota, Florida. Ft. Burning Spear • Kabaka Pyramid • Third World • Luciano • Yellowman • Eric Swanson • A very special guest headliner Plus other local and regional acts

More Info: WWW.UNITEDFORRELIEF.COM

To raise funds for hurricane relief efforts in Jamaica after Hurricane Melissa
CREATED:20251129T161434Z
URL;VALUE=URI:http://holdmyticket.com/event/455453 

DTEND:20251214T234500
END:VEVENT
END:VCALENDAR