BEGIN:VCALENDAR
METHOD:PUBLISH
X-WR-TIMEZONE:America/Denver
PRODID:-//Hold My Ticket.//HMT Web App//EN
CALSCALE:GREGORIAN
METHOD:PUBLISH
X-WR-CALNAME:ujamadesigns.com
X-WR-CALDESC:Upcoming events at ujamadesigns.com
BEGIN:VTIMEZONE
TZID:America/Denver 
END:VTIMEZONE
BEGIN:VEVENT
SEQUENCE:2
TRANSP:OPAQUE
UID:d1b2be72a571969d3809f8b00e1cb355
DTSTART:20260110T200000
DTSTAMP:20260107T060312Z
SUMMARY:Luciano
DESCRIPTION:
CREATED:20260107T060312Z
URL;VALUE=URI:http://holdmyticket.com/event/455454 

DTEND:20260110T230000
END:VEVENT
END:VCALENDAR