BEGIN:VCALENDAR
METHOD:PUBLISH
X-WR-TIMEZONE:America/Denver
PRODID:-//Hold My Ticket.//HMT Web App//EN
CALSCALE:GREGORIAN
METHOD:PUBLISH
X-WR-CALNAME:ujamadesigns.com
X-WR-CALDESC:Upcoming events at ujamadesigns.com
BEGIN:VTIMEZONE
TZID:America/Denver 
END:VTIMEZONE
BEGIN:VEVENT
SEQUENCE:2
TRANSP:OPAQUE
UID:9528f793a72d45fee4cb43dbad7bde2a
DTSTART:20260109T200000
DTSTAMP:20260107T060130Z
SUMMARY:Luciano
DESCRIPTION:
CREATED:20260107T060130Z
URL;VALUE=URI:http://holdmyticket.com/event/455455 

DTEND:20260109T230000
END:VEVENT
END:VCALENDAR