BEGIN:VCALENDAR
METHOD:PUBLISH
X-WR-TIMEZONE:America/Denver
PRODID:-//Hold My Ticket.//HMT Web App//EN
CALSCALE:GREGORIAN
METHOD:PUBLISH
X-WR-CALNAME:Launchpad
X-WR-CALDESC:Upcoming events at Launchpad
BEGIN:VTIMEZONE
TZID:America/Denver 
END:VTIMEZONE
BEGIN:VEVENT
SEQUENCE:2
TRANSP:OPAQUE
UID:67974e4ac9153442456546f7e5e12ed7
DTSTART:20260518T200000
DTSTAMP:20260418T182701Z
SUMMARY:Holy Fuck * Dream Noise * SNDWAVS
DESCRIPTION:* Holy Fuck * Dream Noise * SNDWAVS *

Monday, May 18, 2026
Doors 7pm | Show 8pm
Launchpad
ABQ NM
all ages

Advance tickets - $20 + service charge
Ticket prices may increase day of show
https://www.facebook.com/events/865916429396084
CREATED:20260418T182701Z
URL;VALUE=URI:http://holdmyticket.com/event/455665 

DTEND:20260518T230000
END:VEVENT
END:VCALENDAR