BEGIN:VCALENDAR
METHOD:PUBLISH
X-WR-TIMEZONE:America/Denver
PRODID:-//Hold My Ticket.//HMT Web App//EN
CALSCALE:GREGORIAN
METHOD:PUBLISH
X-WR-CALNAME:Unit B by Chocolate Maven
X-WR-CALDESC:Upcoming events at Unit B by Chocolate Maven
BEGIN:VTIMEZONE
TZID:America/Denver 
END:VTIMEZONE
BEGIN:VEVENT
SEQUENCE:2
TRANSP:OPAQUE
UID:3d573334578b7c192ec48fa732202f31
DTSTART:20260527T190000
DTSTAMP:20260316T103825Z
SUMMARY:Ghalia Volt
DESCRIPTION:A powerhouse performer with grit, soul, and serious chops, Ghalia Volt brings a magnetic, high-voltage presence to the stage--armed with just a guitar, foot-drums, and raw talent. Born in Belgium and raised on the streets of Brussels, she carved her path busking before diving deep into the American South's blues tradition.
CREATED:20260316T103825Z
URL;VALUE=URI:http://holdmyticket.com/event/455808 

DTEND:20260527T210000
END:VEVENT
END:VCALENDAR