BEGIN:VCALENDAR
METHOD:PUBLISH
X-WR-TIMEZONE:America/Denver
PRODID:-//Hold My Ticket.//HMT Web App//EN
CALSCALE:GREGORIAN
METHOD:PUBLISH
X-WR-CALNAME:The Federal Theatre
X-WR-CALDESC:Upcoming events at The Federal Theatre
BEGIN:VTIMEZONE
TZID:America/Denver 
END:VTIMEZONE
BEGIN:VEVENT
SEQUENCE:2
TRANSP:OPAQUE
UID:12d724fbbc20e247d26d6e575061e763
DTSTART:20260117T200000
DTSTAMP:20251208T134400Z
SUMMARY:Federal Nights 
DESCRIPTION:
CREATED:20251208T134400Z
URL;VALUE=URI:http://holdmyticket.com/event/455841 

DTEND:20260117T233000
END:VEVENT
END:VCALENDAR