BEGIN:VCALENDAR
METHOD:PUBLISH
X-WR-TIMEZONE:America/Denver
PRODID:-//Hold My Ticket.//HMT Web App//EN
CALSCALE:GREGORIAN
METHOD:PUBLISH
X-WR-CALNAME:Sunshine Theater
X-WR-CALDESC:Upcoming events at Sunshine Theater
BEGIN:VTIMEZONE
TZID:America/Denver 
END:VTIMEZONE
BEGIN:VEVENT
SEQUENCE:2
TRANSP:OPAQUE
UID:035b50c2efc717ab43956db6846f1db4
DTSTART:20261007T193000
DTSTAMP:20260422T100430Z
SUMMARY:Palace 
DESCRIPTION:* Palace *
USA & Canada Tour 2026

CREATED:20260422T100430Z
URL;VALUE=URI:http://holdmyticket.com/event/456017 

DTEND:20261007T223000
END:VEVENT
END:VCALENDAR