BEGIN:VCALENDAR
METHOD:PUBLISH
X-WR-TIMEZONE:America/Denver
PRODID:-//Hold My Ticket.//HMT Web App//EN
CALSCALE:GREGORIAN
METHOD:PUBLISH
X-WR-CALNAME:El Rey
X-WR-CALDESC:Upcoming events at El Rey
BEGIN:VTIMEZONE
TZID:America/Denver 
END:VTIMEZONE
BEGIN:VEVENT
SEQUENCE:2
TRANSP:OPAQUE
UID:94d2009898cc290e7d668a25d9bbc38d
DTSTART:20260425T200000
DTSTAMP:20260416T140202Z
SUMMARY:Purity Ring - Place Of My Own Tour 
DESCRIPTION:* Purity Ring * mmj *
Place Of My Own Tour 

Saturday, April 25, 2026
Doors 7pm | Show 8pm
El Rey Theater
ABQ NM
all ages

Advance tickets - $29 + service charge
Ticket prices may increase day of show
https://www.facebook.com/events/851291111076053

Purity Ring has partnered with PLUS1 so that $1 per ticket goes to support The Black Trans Prayer Book, and their work to celebrate and uplift Black Trans & Non-Binary people.


CREATED:20260416T140202Z
URL;VALUE=URI:http://holdmyticket.com/event/456018 

DTEND:20260425T230000
END:VEVENT
END:VCALENDAR