BEGIN:VCALENDAR
METHOD:PUBLISH
X-WR-TIMEZONE:America/Denver
PRODID:-//Hold My Ticket.//HMT Web App//EN
CALSCALE:GREGORIAN
METHOD:PUBLISH
X-WR-CALNAME:El Rey
X-WR-CALDESC:Upcoming events at El Rey
BEGIN:VTIMEZONE
TZID:America/Denver 
END:VTIMEZONE
BEGIN:VEVENT
SEQUENCE:2
TRANSP:OPAQUE
UID:ccd0257797d09bc4d64acf4e4f1f74c0
DTSTART:20260417T193000
DTSTAMP:20260224T161820Z
SUMMARY:Buckethead
DESCRIPTION:* Buckethead *
CREATED:20260224T161820Z
URL;VALUE=URI:http://holdmyticket.com/event/456054 

DTEND:20260417T230000
END:VEVENT
END:VCALENDAR