BEGIN:VCALENDAR
METHOD:PUBLISH
X-WR-TIMEZONE:America/Denver
PRODID:-//Hold My Ticket.//HMT Web App//EN
CALSCALE:GREGORIAN
METHOD:PUBLISH
X-WR-CALNAME:Launchpad
X-WR-CALDESC:Upcoming events at Launchpad
BEGIN:VTIMEZONE
TZID:America/Denver 
END:VTIMEZONE
BEGIN:VEVENT
SEQUENCE:2
TRANSP:OPAQUE
UID:dc8c51a016ac3a9fa7ef36a7642eca46
DTSTART:20260506T200000
DTSTAMP:20260302T103322Z
SUMMARY:Iration at The Bridge Santa Fe 
DESCRIPTION:* Iration * Artikal Sound System * 
CREATED:20260302T103322Z
URL;VALUE=URI:http://holdmyticket.com/event/456124 

DTEND:20260506T230000
END:VEVENT
END:VCALENDAR