BEGIN:VCALENDAR
METHOD:PUBLISH
X-WR-TIMEZONE:America/Denver
PRODID:-//Hold My Ticket.//HMT Web App//EN
CALSCALE:GREGORIAN
METHOD:PUBLISH
X-WR-CALNAME:Buffalo Rose
X-WR-CALDESC:Upcoming events at Buffalo Rose
BEGIN:VTIMEZONE
TZID:America/Denver 
END:VTIMEZONE
BEGIN:VEVENT
SEQUENCE:2
TRANSP:OPAQUE
UID:fc835f121f52261362f6a669f544aa65
DTSTART:20260426T170000
DTSTAMP:20260109T130119Z
SUMMARY:3rd Annual GHS Battle of the Bands
DESCRIPTION:
CREATED:20260109T130119Z
URL;VALUE=URI:http://holdmyticket.com/event/456384 

DTEND:20260426T210000
END:VEVENT
END:VCALENDAR