BEGIN:VCALENDAR
METHOD:PUBLISH
X-WR-TIMEZONE:America/Denver
PRODID:-//Hold My Ticket.//HMT Web App//EN
CALSCALE:GREGORIAN
METHOD:PUBLISH
X-WR-CALNAME:Lensic Performing Arts Center 
X-WR-CALDESC:Upcoming events at Lensic Performing Arts Center 
BEGIN:VTIMEZONE
TZID:America/Denver 
END:VTIMEZONE
BEGIN:VEVENT
SEQUENCE:2
TRANSP:OPAQUE
UID:59ef4bb412ad24369af6358d13f254f6
DTSTART:20261111T193000
DTSTAMP:20260310T090017Z
SUMMARY:Buena Vista Orchestra
DESCRIPTION:
CREATED:20260310T090017Z
URL;VALUE=URI:http://holdmyticket.com/event/456564 

DTEND:20261111T213000
END:VEVENT
END:VCALENDAR