BEGIN:VCALENDAR
METHOD:PUBLISH
X-WR-TIMEZONE:America/Denver
PRODID:-//Hold My Ticket.//HMT Web App//EN
CALSCALE:GREGORIAN
METHOD:PUBLISH
X-WR-CALNAME:Tumbleroot Brewery & Distillery
X-WR-CALDESC:Upcoming events at Tumbleroot Brewery & Distillery
BEGIN:VTIMEZONE
TZID:America/Denver 
END:VTIMEZONE
BEGIN:VEVENT
SEQUENCE:2
TRANSP:OPAQUE
UID:417d7313084b8842dcffddff07a4b3a7
DTSTART:20260520T193000
DTSTAMP:20260330T130114Z
SUMMARY:TOPS
DESCRIPTION:
CREATED:20260330T130114Z
URL;VALUE=URI:http://holdmyticket.com/event/456638 

DTEND:20260520T223000
END:VEVENT
END:VCALENDAR