BEGIN:VCALENDAR
METHOD:PUBLISH
X-WR-TIMEZONE:America/Denver
PRODID:-//Hold My Ticket.//HMT Web App//EN
CALSCALE:GREGORIAN
METHOD:PUBLISH
X-WR-CALNAME:Sunshine Theater
X-WR-CALDESC:Upcoming events at Sunshine Theater
BEGIN:VTIMEZONE
TZID:America/Denver 
END:VTIMEZONE
BEGIN:VEVENT
SEQUENCE:2
TRANSP:OPAQUE
UID:91218ac5a5bb743b904f72899d3bbcd7
DTSTART:20260430T200000
DTSTAMP:20260413T090856Z
SUMMARY:Lords of Acid * Princess Superstar * Tony And The Kiki * MZ Neon
DESCRIPTION:* Lords of Acid * Princess Superstar * Tony And The Kiki * MZ Neon *
Cheeky Freaky Tour 

Thursday, April 30, 2026
Doors 7pm | Show 8pm
Sunshine Theater 
ABQ NM 
all ages 

Advance tickets - $28 + service charge
Ticket prices may increase day of show
https://www.facebook.com/events/1610791453256799

NOW ON SALE!! 
CREATED:20260413T090856Z
URL;VALUE=URI:http://holdmyticket.com/event/456837 

DTEND:20260430T223000
END:VEVENT
END:VCALENDAR