BEGIN:VCALENDAR
METHOD:PUBLISH
X-WR-TIMEZONE:America/Denver
PRODID:-//Hold My Ticket.//HMT Web App//EN
CALSCALE:GREGORIAN
METHOD:PUBLISH
X-WR-CALNAME:ujamadesigns.com
X-WR-CALDESC:Upcoming events at ujamadesigns.com
BEGIN:VTIMEZONE
TZID:America/Denver 
END:VTIMEZONE
BEGIN:VEVENT
SEQUENCE:2
TRANSP:OPAQUE
UID:683016aa78c701c878e219ca21ac8440
DTSTART:20260108T200000
DTSTAMP:20260107T054405Z
SUMMARY:Luciano Messenjah Jan 2026 Tour
DESCRIPTION:
CREATED:20260107T054405Z
URL;VALUE=URI:http://holdmyticket.com/event/456925 

DTEND:20260111T230000
END:VEVENT
END:VCALENDAR