BEGIN:VCALENDAR
METHOD:PUBLISH
X-WR-TIMEZONE:America/Denver
PRODID:-//Hold My Ticket.//HMT Web App//EN
CALSCALE:GREGORIAN
METHOD:PUBLISH
X-WR-CALNAME:ujamadesigns.com
X-WR-CALDESC:Upcoming events at ujamadesigns.com
BEGIN:VTIMEZONE
TZID:America/Denver 
END:VTIMEZONE
BEGIN:VEVENT
SEQUENCE:2
TRANSP:OPAQUE
UID:c5029029135576b68090bee10fec0963
DTSTART:20260227T200000
DTSTAMP:20260227T210055Z
SUMMARY:Wailing Souls February 2026 Tour
DESCRIPTION:
CREATED:20260227T210055Z
URL;VALUE=URI:http://holdmyticket.com/event/456945 

DTEND:20260317T230000
END:VEVENT
END:VCALENDAR