BEGIN:VCALENDAR
METHOD:PUBLISH
X-WR-TIMEZONE:America/Chicago
PRODID:-//Hold My Ticket.//HMT Web App//EN
CALSCALE:GREGORIAN
METHOD:PUBLISH
X-WR-CALNAME:Luckenbach Texas
X-WR-CALDESC:Upcoming events at Luckenbach Texas
BEGIN:VTIMEZONE
TZID:America/Chicago 
END:VTIMEZONE
BEGIN:VEVENT
SEQUENCE:2
TRANSP:OPAQUE
UID:67a2899d4771fb4b097c2baa5c35bcc5
DTSTART:20260430T180000
DTSTAMP:20260121T120858Z
SUMMARY:Three Old Guys plus T-Roy
DESCRIPTION:
CREATED:20260121T120858Z
URL;VALUE=URI:http://holdmyticket.com/event/456948 

DTEND:20260430T210000
END:VEVENT
END:VCALENDAR