BEGIN:VCALENDAR
METHOD:PUBLISH
X-WR-TIMEZONE:America/Denver
PRODID:-//Hold My Ticket.//HMT Web App//EN
CALSCALE:GREGORIAN
METHOD:PUBLISH
X-WR-CALNAME:El Rey Theater
X-WR-CALDESC:Upcoming events at El Rey Theater
BEGIN:VTIMEZONE
TZID:America/Denver 
END:VTIMEZONE
BEGIN:VEVENT
SEQUENCE:2
TRANSP:OPAQUE
UID:7e19c739b0ecbda2f62c79263f4051e3
DTSTART:20260525T190000
DTSTAMP:20260312T213852Z
SUMMARY:Lou Deezi w/GMoneyDt Performing Live in Albuquerque, NM
DESCRIPTION:
CREATED:20260312T213852Z
URL;VALUE=URI:http://holdmyticket.com/event/457226 

DTEND:20260525T230000
END:VEVENT
END:VCALENDAR