BEGIN:VCALENDAR
METHOD:PUBLISH
X-WR-TIMEZONE:America/Denver
PRODID:-//Hold My Ticket.//HMT Web App//EN
CALSCALE:GREGORIAN
METHOD:PUBLISH
X-WR-CALNAME:Popejoy Hall
X-WR-CALDESC:Upcoming events at Popejoy Hall
BEGIN:VTIMEZONE
TZID:America/Denver 
END:VTIMEZONE
BEGIN:VEVENT
SEQUENCE:2
TRANSP:OPAQUE
UID:1bb92ebcc65f52205436a32345a1fc0f
DTSTART:20260508T200000
DTSTAMP:20260130T102056Z
SUMMARY:An Evening with Wilco
DESCRIPTION:
CREATED:20260130T102056Z
URL;VALUE=URI:http://holdmyticket.com/event/457252 

DTEND:20260508T233000
END:VEVENT
END:VCALENDAR