BEGIN:VCALENDAR
METHOD:PUBLISH
X-WR-TIMEZONE:America/New_York
PRODID:-//Hold My Ticket.//HMT Web App//EN
CALSCALE:GREGORIAN
METHOD:PUBLISH
X-WR-CALNAME:Thirsty Cowboy
X-WR-CALDESC:Upcoming events at Thirsty Cowboy
BEGIN:VTIMEZONE
TZID:America/New_York 
END:VTIMEZONE
BEGIN:VEVENT
SEQUENCE:2
TRANSP:OPAQUE
UID:0d10de74e1656b24d1e3d2ffaabc89a7
DTSTART:20260404T190000
DTSTAMP:20260404T170022Z
SUMMARY:THIRSTY COWBOY'S SATURDAY NIGHT DANCE PARTY
DESCRIPTION:
CREATED:20260404T170022Z
URL;VALUE=URI:http://holdmyticket.com/event/457301 

DTEND:20260405T020000
END:VEVENT
END:VCALENDAR