BEGIN:VCALENDAR
METHOD:PUBLISH
X-WR-TIMEZONE:America/New_York
PRODID:-//Hold My Ticket.//HMT Web App//EN
CALSCALE:GREGORIAN
METHOD:PUBLISH
X-WR-CALNAME:Thirsty Cowboy
X-WR-CALDESC:Upcoming events at Thirsty Cowboy
BEGIN:VTIMEZONE
TZID:America/New_York 
END:VTIMEZONE
BEGIN:VEVENT
SEQUENCE:2
TRANSP:OPAQUE
UID:60aa428b3157cc9e41b54b62d85fb19a
DTSTART:20260509T190000
DTSTAMP:20260121T120858Z
SUMMARY:THIRSTY COWBOY'S SATURDAY NIGHT DANCE PARTY
DESCRIPTION:
CREATED:20260121T120858Z
URL;VALUE=URI:http://holdmyticket.com/event/457306 

DTEND:20260510T020000
END:VEVENT
END:VCALENDAR