BEGIN:VCALENDAR
METHOD:PUBLISH
X-WR-TIMEZONE:America/New_York
PRODID:-//Hold My Ticket.//HMT Web App//EN
CALSCALE:GREGORIAN
METHOD:PUBLISH
X-WR-CALNAME:Thirsty Cowboy
X-WR-CALDESC:Upcoming events at Thirsty Cowboy
BEGIN:VTIMEZONE
TZID:America/New_York 
END:VTIMEZONE
BEGIN:VEVENT
SEQUENCE:2
TRANSP:OPAQUE
UID:d120f0f33a54ac9f10c3a5b21b291ca7
DTSTART:20261024T190000
DTSTAMP:20260121T120858Z
SUMMARY:THIRSTY COWBOY'S SATURDAY NIGHT DANCE PARTY
DESCRIPTION:
CREATED:20260121T120858Z
URL;VALUE=URI:http://holdmyticket.com/event/457330 

DTEND:20261025T020000
END:VEVENT
END:VCALENDAR