BEGIN:VCALENDAR
METHOD:PUBLISH
X-WR-TIMEZONE:America/New_York
PRODID:-//Hold My Ticket.//HMT Web App//EN
CALSCALE:GREGORIAN
METHOD:PUBLISH
X-WR-CALNAME:Thirsty Cowboy
X-WR-CALDESC:Upcoming events at Thirsty Cowboy
BEGIN:VTIMEZONE
TZID:America/New_York 
END:VTIMEZONE
BEGIN:VEVENT
SEQUENCE:2
TRANSP:OPAQUE
UID:8ae64f14f7ade7b6a721e7d94e6d0df7
DTSTART:20261226T190000
DTSTAMP:20260121T120858Z
SUMMARY:THIRSTY COWBOY'S SATURDAY NIGHT DANCE PARTY
DESCRIPTION:
CREATED:20260121T120858Z
URL;VALUE=URI:http://holdmyticket.com/event/457339 

DTEND:20261227T020000
END:VEVENT
END:VCALENDAR